Package: GenomicFiles Version: 1.42.0 Command: /Library/Frameworks/R.framework/Resources/bin/R CMD check --install=check:GenomicFiles.install-out.txt --library=/Library/Frameworks/R.framework/Resources/library --no-vignettes --timings GenomicFiles_1.42.0.tar.gz StartedAt: 2025-02-04 04:11:03 -0500 (Tue, 04 Feb 2025) EndedAt: 2025-02-04 04:24:03 -0500 (Tue, 04 Feb 2025) EllapsedTime: 779.8 seconds RetCode: 0 Status: WARNINGS CheckDir: GenomicFiles.Rcheck Warnings: 1