Package: GenomicFiles Version: 1.42.0 Command: /Library/Frameworks/R.framework/Resources/bin/R CMD INSTALL GenomicFiles StartedAt: 2025-01-27 16:11:08 -0500 (Mon, 27 Jan 2025) EndedAt: 2025-01-27 16:11:57 -0500 (Mon, 27 Jan 2025) EllapsedTime: 48.5 seconds RetCode: 0 Status: OK