Package: GenomicFeatures Version: 1.58.0 Command: rm -rf GenomicFeatures.buildbin-libdir && mkdir GenomicFeatures.buildbin-libdir && F:\biocbuild\bbs-3.20-bioc\R\bin\R.exe CMD INSTALL --build --library=GenomicFeatures.buildbin-libdir GenomicFeatures_1.58.0.tar.gz StartedAt: 2025-04-01 08:16:06 -0400 (Tue, 01 Apr 2025) EndedAt: 2025-04-01 08:18:28 -0400 (Tue, 01 Apr 2025) EllapsedTime: 141.8 seconds RetCode: 0 Status: OK PackageFile: GenomicFeatures_1.58.0.zip PackageFileSize: 1.361 MiB