Package: GenomicFeatures Version: 1.58.0 Command: rm -rf GenomicFeatures.buildbin-libdir && mkdir GenomicFeatures.buildbin-libdir && /Users/biocbuild/BBS/utils/build-universal.sh GenomicFeatures_1.58.0.tar.gz /Library/Frameworks/R.framework/Resources/bin/R GenomicFeatures.buildbin-libdir StartedAt: 2025-04-01 11:56:50 -0400 (Tue, 01 Apr 2025) EndedAt: 2025-04-01 11:58:11 -0400 (Tue, 01 Apr 2025) EllapsedTime: 80.8 seconds RetCode: 0 Status: OK PackageFile: GenomicFeatures_1.58.0.tgz PackageFileSize: 1.363 MiB