Package: GenomicDistributions Version: 1.14.0 Command: /home/biocbuild/R/R/bin/R CMD INSTALL GenomicDistributions StartedAt: 2025-01-27 21:14:40 -0000 (Mon, 27 Jan 2025) EndedAt: 2025-01-27 21:14:59 -0000 (Mon, 27 Jan 2025) EllapsedTime: 19.1 seconds RetCode: 0 Status: OK