Package: GenomicDistributions Version: 1.14.0 Command: rm -rf GenomicDistributions.buildbin-libdir && mkdir GenomicDistributions.buildbin-libdir && F:\biocbuild\bbs-3.20-bioc\R\bin\R.exe CMD INSTALL --build --library=GenomicDistributions.buildbin-libdir GenomicDistributions_1.14.0.tar.gz StartedAt: 2025-04-01 08:16:03 -0400 (Tue, 01 Apr 2025) EndedAt: 2025-04-01 08:18:25 -0400 (Tue, 01 Apr 2025) EllapsedTime: 141.7 seconds RetCode: 0 Status: OK PackageFile: GenomicDistributions_1.14.0.zip PackageFileSize: 4.682 MiB