Package: GenomicDistributions Version: 1.14.0 Command: /Library/Frameworks/R.framework/Resources/bin/R CMD INSTALL GenomicDistributions StartedAt: 2025-03-31 15:20:33 -0400 (Mon, 31 Mar 2025) EndedAt: 2025-03-31 15:21:06 -0400 (Mon, 31 Mar 2025) EllapsedTime: 33.2 seconds RetCode: 0 Status: OK