Package: GenomicDataCommons Version: 1.30.0 Command: F:\biocbuild\bbs-3.20-bioc\R\bin\R.exe CMD INSTALL GenomicDataCommons StartedAt: 2025-01-27 15:42:22 -0500 (Mon, 27 Jan 2025) EndedAt: 2025-01-27 15:44:13 -0500 (Mon, 27 Jan 2025) EllapsedTime: 110.5 seconds RetCode: 0 Status: OK