Package: GenomicAlignments Version: 1.42.0 Command: /home/biocbuild/bbs-3.20-bioc/R/bin/R CMD INSTALL GenomicAlignments StartedAt: 2025-03-31 15:21:27 -0400 (Mon, 31 Mar 2025) EndedAt: 2025-03-31 15:21:59 -0400 (Mon, 31 Mar 2025) EllapsedTime: 32.7 seconds RetCode: 0 Status: OK