Package: GenomicAlignments Version: 1.42.0 Command: /Library/Frameworks/R.framework/Resources/bin/R CMD INSTALL GenomicAlignments StartedAt: 2025-03-31 15:26:30 -0400 (Mon, 31 Mar 2025) EndedAt: 2025-03-31 15:27:48 -0400 (Mon, 31 Mar 2025) EllapsedTime: 78.1 seconds RetCode: 0 Status: OK