Package: GenomAutomorphism Version: 1.8.1 Command: /home/biocbuild/R/R/bin/R CMD INSTALL GenomAutomorphism StartedAt: 2025-01-27 22:04:02 -0000 (Mon, 27 Jan 2025) EndedAt: 2025-01-27 22:04:32 -0000 (Mon, 27 Jan 2025) EllapsedTime: 29.8 seconds RetCode: 0 Status: OK