Package: GenomAutomorphism Version: 1.8.1 Command: F:\biocbuild\bbs-3.20-bioc\R\bin\R.exe CMD INSTALL GenomAutomorphism StartedAt: 2025-01-27 17:05:15 -0500 (Mon, 27 Jan 2025) EndedAt: 2025-01-27 17:07:55 -0500 (Mon, 27 Jan 2025) EllapsedTime: 160.3 seconds RetCode: 0 Status: OK