Package: GenomAutomorphism Version: 1.8.1 Command: /Library/Frameworks/R.framework/Resources/bin/R CMD INSTALL GenomAutomorphism StartedAt: 2025-03-31 18:17:43 -0400 (Mon, 31 Mar 2025) EndedAt: 2025-03-31 18:18:08 -0400 (Mon, 31 Mar 2025) EllapsedTime: 25.3 seconds RetCode: 0 Status: OK