Package: GeneticsPed Version: 1.68.0 Command: F:\biocbuild\bbs-3.20-bioc\R\bin\R.exe CMD INSTALL GeneticsPed StartedAt: 2025-03-31 15:24:47 -0400 (Mon, 31 Mar 2025) EndedAt: 2025-03-31 15:25:47 -0400 (Mon, 31 Mar 2025) EllapsedTime: 60.2 seconds RetCode: 0 Status: OK