Package: GeneticsPed Version: 1.68.0 Command: chmod a+r GeneticsPed -R && F:\biocbuild\bbs-3.20-bioc\R\bin\R.exe CMD build --keep-empty-dirs --no-resave-data GeneticsPed StartedAt: 2025-03-31 19:10:23 -0400 (Mon, 31 Mar 2025) EndedAt: 2025-03-31 19:11:11 -0400 (Mon, 31 Mar 2025) EllapsedTime: 48.5 seconds RetCode: 0 Status: OK PackageFile: GeneticsPed_1.68.0.tar.gz PackageFileSize: 357.1 KiB