Package: GeneticsPed Version: 1.68.0 Command: /home/biocbuild/bbs-3.20-bioc/R/bin/R CMD check --install=check:GeneticsPed.install-out.txt --library=/home/biocbuild/bbs-3.20-bioc/R/site-library --timings GeneticsPed_1.68.0.tar.gz StartedAt: 2025-01-27 23:23:11 -0500 (Mon, 27 Jan 2025) EndedAt: 2025-01-27 23:23:42 -0500 (Mon, 27 Jan 2025) EllapsedTime: 31.0 seconds RetCode: 0 Status: WARNINGS CheckDir: GeneticsPed.Rcheck Warnings: 1