Package: GeneticsPed Version: 1.68.0 Command: /Library/Frameworks/R.framework/Resources/bin/R CMD check --install=check:GeneticsPed.install-out.txt --library=/Library/Frameworks/R.framework/Resources/library --no-vignettes --timings GeneticsPed_1.68.0.tar.gz StartedAt: 2025-01-28 04:19:19 -0500 (Tue, 28 Jan 2025) EndedAt: 2025-01-28 04:20:26 -0500 (Tue, 28 Jan 2025) EllapsedTime: 67.0 seconds RetCode: 0 Status: WARNINGS CheckDir: GeneticsPed.Rcheck Warnings: 1