Package: GeneticsPed Version: 1.68.0 Command: /Library/Frameworks/R.framework/Resources/bin/R CMD build --keep-empty-dirs --no-resave-data GeneticsPed StartedAt: 2025-03-31 18:54:39 -0400 (Mon, 31 Mar 2025) EndedAt: 2025-03-31 18:55:42 -0400 (Mon, 31 Mar 2025) EllapsedTime: 63.0 seconds RetCode: 0 Status: OK PackageFile: GeneticsPed_1.68.0.tar.gz PackageFileSize: 671.2 KiB