Package: GeneticsPed Version: 1.68.0 Command: rm -rf GeneticsPed.buildbin-libdir && mkdir GeneticsPed.buildbin-libdir && /Users/biocbuild/BBS/utils/build-universal.sh GeneticsPed_1.68.0.tar.gz /Library/Frameworks/R.framework/Resources/bin/R GeneticsPed.buildbin-libdir StartedAt: 2025-04-01 11:56:30 -0400 (Tue, 01 Apr 2025) EndedAt: 2025-04-01 11:57:05 -0400 (Tue, 01 Apr 2025) EllapsedTime: 35.7 seconds RetCode: 0 Status: OK PackageFile: GeneticsPed_1.68.0.tgz PackageFileSize: 828.3 KiB