Package: GeneticsPed Version: 1.68.0 Command: /Library/Frameworks/R.framework/Resources/bin/R CMD INSTALL GeneticsPed StartedAt: 2025-03-31 15:11:53 -0400 (Mon, 31 Mar 2025) EndedAt: 2025-03-31 15:12:08 -0400 (Mon, 31 Mar 2025) EllapsedTime: 15.8 seconds RetCode: 0 Status: OK