Package: GeneTonic Version: 3.0.0 Command: /home/biocbuild/R/R/bin/R CMD INSTALL GeneTonic StartedAt: 2025-02-03 21:13:35 -0000 (Mon, 03 Feb 2025) EndedAt: 2025-02-03 21:14:38 -0000 (Mon, 03 Feb 2025) EllapsedTime: 63.1 seconds RetCode: 0 Status: OK