Package: GeneTonic Version: 3.0.0 Command: chmod a+r GeneTonic -R && F:\biocbuild\bbs-3.20-bioc\R\bin\R.exe CMD build --keep-empty-dirs --no-resave-data GeneTonic StartedAt: 2025-02-03 19:22:59 -0500 (Mon, 03 Feb 2025) EndedAt: 2025-02-03 19:25:48 -0500 (Mon, 03 Feb 2025) EllapsedTime: 169.6 seconds RetCode: 0 Status: OK PackageFile: GeneTonic_3.0.0.tar.gz PackageFileSize: 7.549 MiB