Package: GeneTonic Version: 3.0.0 Command: /home/biocbuild/bbs-3.20-bioc/R/bin/R CMD INSTALL GeneTonic StartedAt: 2025-03-31 15:51:25 -0400 (Mon, 31 Mar 2025) EndedAt: 2025-03-31 15:52:12 -0400 (Mon, 31 Mar 2025) EllapsedTime: 47.1 seconds RetCode: 0 Status: OK