Package: GeneTonic Version: 3.0.0 Command: /home/biocbuild/bbs-3.20-bioc/R/bin/R CMD build --keep-empty-dirs --no-resave-data --md5 GeneTonic StartedAt: 2025-01-27 18:17:57 -0500 (Mon, 27 Jan 2025) EndedAt: 2025-01-27 18:19:49 -0500 (Mon, 27 Jan 2025) EllapsedTime: 112.1 seconds RetCode: 0 Status: OK PackageFile: GeneTonic_3.0.0.tar.gz PackageFileSize: 9.586 MiB