Package: GeneTonic Version: 3.0.0 Command: /Library/Frameworks/R.framework/Resources/bin/R CMD build --keep-empty-dirs --no-resave-data GeneTonic StartedAt: 2025-01-27 19:11:39 -0500 (Mon, 27 Jan 2025) EndedAt: 2025-01-27 19:15:59 -0500 (Mon, 27 Jan 2025) EllapsedTime: 259.9 seconds RetCode: 0 Status: OK PackageFile: GeneTonic_3.0.0.tar.gz PackageFileSize: 9.867 MiB