Package: GeneTonic Version: 3.0.0 Command: rm -rf GeneTonic.buildbin-libdir && mkdir GeneTonic.buildbin-libdir && /Users/biocbuild/BBS/utils/build-universal.sh GeneTonic_3.0.0.tar.gz /Library/Frameworks/R.framework/Resources/bin/R GeneTonic.buildbin-libdir StartedAt: 2025-01-28 13:13:29 -0500 (Tue, 28 Jan 2025) EndedAt: 2025-01-28 13:16:38 -0500 (Tue, 28 Jan 2025) EllapsedTime: 189.0 seconds RetCode: 0 Status: OK PackageFile: GeneTonic_3.0.0.tgz PackageFileSize: 9.977 MiB