Package: GeneTonic Version: 3.0.0 Command: /Library/Frameworks/R.framework/Resources/bin/R CMD INSTALL GeneTonic StartedAt: 2025-01-27 17:44:28 -0500 (Mon, 27 Jan 2025) EndedAt: 2025-01-27 17:45:28 -0500 (Mon, 27 Jan 2025) EllapsedTime: 60.0 seconds RetCode: 0 Status: OK