Package: GeneStructureTools Version: 1.26.0 Command: /home/biocbuild/R/R/bin/R CMD INSTALL GeneStructureTools StartedAt: 2025-02-03 20:59:57 -0000 (Mon, 03 Feb 2025) EndedAt: 2025-02-03 21:01:02 -0000 (Mon, 03 Feb 2025) EllapsedTime: 64.6 seconds RetCode: 0 Status: OK