Package: GeneStructureTools Version: 1.26.0 Command: /home/biocbuild/R/R/bin/R CMD build --keep-empty-dirs --no-resave-data GeneStructureTools StartedAt: 2025-01-28 00:30:09 -0000 (Tue, 28 Jan 2025) EndedAt: 2025-01-28 00:33:40 -0000 (Tue, 28 Jan 2025) EllapsedTime: 211.1 seconds RetCode: 0 Status: OK PackageFile: GeneStructureTools_1.26.0.tar.gz PackageFileSize: 2.315 MiB