Package: GeneStructureTools Version: 1.26.0 Command: /home/biocbuild/bbs-3.20-bioc/R/bin/R CMD INSTALL GeneStructureTools StartedAt: 2025-01-27 16:30:58 -0500 (Mon, 27 Jan 2025) EndedAt: 2025-01-27 16:32:08 -0500 (Mon, 27 Jan 2025) EllapsedTime: 69.7 seconds RetCode: 0 Status: OK