Package: GeneStructureTools Version: 1.26.0 Command: /Library/Frameworks/R.framework/Resources/bin/R CMD check --install=check:GeneStructureTools.install-out.txt --library=/Library/Frameworks/R.framework/Resources/library --no-vignettes --timings GeneStructureTools_1.26.0.tar.gz StartedAt: 2025-04-01 20:03:31 -0400 (Tue, 01 Apr 2025) EndedAt: 2025-04-01 20:10:41 -0400 (Tue, 01 Apr 2025) EllapsedTime: 430.1 seconds RetCode: 0 Status: OK CheckDir: GeneStructureTools.Rcheck Warnings: 0