Package: GeneSelectMMD Version: 2.50.0 Command: /home/biocbuild/R/R/bin/R CMD build --keep-empty-dirs --no-resave-data GeneSelectMMD StartedAt: 2025-03-31 23:40:25 -0000 (Mon, 31 Mar 2025) EndedAt: 2025-03-31 23:40:39 -0000 (Mon, 31 Mar 2025) EllapsedTime: 14.0 seconds RetCode: 0 Status: OK PackageFile: GeneSelectMMD_2.50.0.tar.gz PackageFileSize: 439.9 KiB