Package: GeneRegionScan Version: 1.62.0 Command: /home/biocbuild/R/R/bin/R CMD INSTALL GeneRegionScan StartedAt: 2025-03-31 20:22:20 -0000 (Mon, 31 Mar 2025) EndedAt: 2025-03-31 20:22:38 -0000 (Mon, 31 Mar 2025) EllapsedTime: 17.5 seconds RetCode: 0 Status: OK