Package: GeneRegionScan Version: 1.62.0 Command: /home/biocbuild/bbs-3.20-bioc/R/bin/R CMD INSTALL GeneRegionScan StartedAt: 2025-01-27 16:05:55 -0500 (Mon, 27 Jan 2025) EndedAt: 2025-01-27 16:06:07 -0500 (Mon, 27 Jan 2025) EllapsedTime: 12.5 seconds RetCode: 0 Status: OK