Package: GeneRegionScan Version: 1.62.0 Command: /Library/Frameworks/R.framework/Resources/bin/R CMD INSTALL GeneRegionScan StartedAt: 2025-01-27 15:23:56 -0500 (Mon, 27 Jan 2025) EndedAt: 2025-01-27 15:24:29 -0500 (Mon, 27 Jan 2025) EllapsedTime: 33.2 seconds RetCode: 0 Status: OK