Package: GeneRegionScan Version: 1.62.0 Command: /Library/Frameworks/R.framework/Resources/bin/R CMD build --keep-empty-dirs --no-resave-data GeneRegionScan StartedAt: 2025-01-27 19:10:57 -0500 (Mon, 27 Jan 2025) EndedAt: 2025-01-27 19:12:20 -0500 (Mon, 27 Jan 2025) EllapsedTime: 82.5 seconds RetCode: 0 Status: OK PackageFile: GeneRegionScan_1.62.0.tar.gz PackageFileSize: 7.482 MiB