Package: GeneOverlap Version: 1.42.0 Command: /home/biocbuild/R/R/bin/R CMD build --keep-empty-dirs --no-resave-data GeneOverlap StartedAt: 2025-03-31 23:39:38 -0000 (Mon, 31 Mar 2025) EndedAt: 2025-03-31 23:39:47 -0000 (Mon, 31 Mar 2025) EllapsedTime: 9.0 seconds RetCode: 0 Status: OK PackageFile: GeneOverlap_1.42.0.tar.gz PackageFileSize: 351.4 KiB