Package: GeneOverlap Version: 1.42.0 Command: /Library/Frameworks/R.framework/Resources/bin/R CMD build --keep-empty-dirs --no-resave-data GeneOverlap StartedAt: 2024-11-19 16:56:09 -0500 (Tue, 19 Nov 2024) EndedAt: 2024-11-19 16:56:26 -0500 (Tue, 19 Nov 2024) EllapsedTime: 17.0 seconds RetCode: 0 Status: OK PackageFile: GeneOverlap_1.42.0.tar.gz PackageFileSize: 361 KiB