Package: GeneOverlap Version: 1.42.0 Command: /Library/Frameworks/R.framework/Resources/bin/R CMD build --keep-empty-dirs --no-resave-data GeneOverlap StartedAt: 2025-01-28 00:07:49 -0500 (Tue, 28 Jan 2025) EndedAt: 2025-01-28 00:08:03 -0500 (Tue, 28 Jan 2025) EllapsedTime: 13.2 seconds RetCode: 0 Status: OK PackageFile: GeneOverlap_1.42.0.tar.gz PackageFileSize: 359.5 KiB