Package: GeneNetworkBuilder Version: 1.48.0 Command: /home/biocbuild/R/R/bin/R CMD INSTALL GeneNetworkBuilder StartedAt: 2025-01-30 20:47:57 -0000 (Thu, 30 Jan 2025) EndedAt: 2025-01-30 20:48:20 -0000 (Thu, 30 Jan 2025) EllapsedTime: 22.4 seconds RetCode: 0 Status: OK