Package: GeneNetworkBuilder Version: 1.48.0 Command: /home/biocbuild/R/R/bin/R CMD build --keep-empty-dirs --no-resave-data GeneNetworkBuilder StartedAt: 2025-03-31 23:39:14 -0000 (Mon, 31 Mar 2025) EndedAt: 2025-03-31 23:48:06 -0000 (Mon, 31 Mar 2025) EllapsedTime: 532.4 seconds RetCode: 0 Status: OK PackageFile: GeneNetworkBuilder_1.48.0.tar.gz PackageFileSize: 7.701 MiB