Package: GeneNetworkBuilder Version: 1.48.0 Command: /home/biocbuild/bbs-3.20-bioc/R/bin/R CMD INSTALL GeneNetworkBuilder StartedAt: 2025-03-31 15:42:29 -0400 (Mon, 31 Mar 2025) EndedAt: 2025-03-31 15:42:46 -0400 (Mon, 31 Mar 2025) EllapsedTime: 16.8 seconds RetCode: 0 Status: OK