Package: GeneNetworkBuilder Version: 1.48.0 Command: /Library/Frameworks/R.framework/Resources/bin/R CMD build --keep-empty-dirs --no-resave-data GeneNetworkBuilder StartedAt: 2025-03-31 18:53:36 -0400 (Mon, 31 Mar 2025) EndedAt: 2025-03-31 19:03:56 -0400 (Mon, 31 Mar 2025) EllapsedTime: 619.5 seconds RetCode: 0 Status: OK PackageFile: GeneNetworkBuilder_1.48.0.tar.gz PackageFileSize: 7.39 MiB