Package: GeneNetworkBuilder Version: 1.48.0 Command: /Library/Frameworks/R.framework/Resources/bin/R CMD INSTALL GeneNetworkBuilder StartedAt: 2025-03-31 17:04:44 -0400 (Mon, 31 Mar 2025) EndedAt: 2025-03-31 17:05:03 -0400 (Mon, 31 Mar 2025) EllapsedTime: 19.0 seconds RetCode: 0 Status: OK