Package: GeneNetworkBuilder Version: 1.48.0 Command: /Library/Frameworks/R.framework/Resources/bin/R CMD check --install=check:GeneNetworkBuilder.install-out.txt --library=/Library/Frameworks/R.framework/Resources/library --no-vignettes --timings GeneNetworkBuilder_1.48.0.tar.gz StartedAt: 2025-01-31 20:11:01 -0500 (Fri, 31 Jan 2025) EndedAt: 2025-01-31 20:12:25 -0500 (Fri, 31 Jan 2025) EllapsedTime: 83.9 seconds RetCode: 0 Status: OK CheckDir: GeneNetworkBuilder.Rcheck Warnings: 0