Package: GeneNetworkBuilder Version: 1.48.0 Command: /Library/Frameworks/R.framework/Resources/bin/R CMD build --keep-empty-dirs --no-resave-data GeneNetworkBuilder StartedAt: 2025-01-31 00:09:29 -0500 (Fri, 31 Jan 2025) EndedAt: 2025-01-31 00:15:55 -0500 (Fri, 31 Jan 2025) EllapsedTime: 385.7 seconds RetCode: 0 Status: OK PackageFile: GeneNetworkBuilder_1.48.0.tar.gz PackageFileSize: 7.391 MiB