Package: GeneMeta Version: 1.78.0 Command: /home/biocbuild/R/R/bin/R CMD build --keep-empty-dirs --no-resave-data GeneMeta StartedAt: 2025-02-03 23:47:08 -0000 (Mon, 03 Feb 2025) EndedAt: 2025-02-03 23:47:48 -0000 (Mon, 03 Feb 2025) EllapsedTime: 40.0 seconds RetCode: 0 Status: OK PackageFile: GeneMeta_1.78.0.tar.gz PackageFileSize: 2.695 MiB