Package: GeneMeta Version: 1.78.0 Command: rm -rf GeneMeta.buildbin-libdir && mkdir GeneMeta.buildbin-libdir && /Users/biocbuild/BBS/utils/build-universal.sh GeneMeta_1.78.0.tar.gz /Library/Frameworks/R.framework/Resources/bin/R GeneMeta.buildbin-libdir StartedAt: 2025-01-29 14:45:44 -0500 (Wed, 29 Jan 2025) EndedAt: 2025-01-29 14:46:06 -0500 (Wed, 29 Jan 2025) EllapsedTime: 22.5 seconds RetCode: 0 Status: OK PackageFile: GeneMeta_1.78.0.tgz PackageFileSize: 2.738 MiB