Package: GeneGeneInteR Version: 1.32.0 Command: /home/biocbuild/R/R/bin/R CMD INSTALL GeneGeneInteR StartedAt: 2025-01-27 21:54:11 -0000 (Mon, 27 Jan 2025) EndedAt: 2025-01-27 21:54:42 -0000 (Mon, 27 Jan 2025) EllapsedTime: 31.1 seconds RetCode: 0 Status: OK