Package: GeneGeneInteR Version: 1.32.0 Command: /Library/Frameworks/R.framework/Resources/bin/R CMD INSTALL GeneGeneInteR StartedAt: 2025-01-27 17:44:32 -0500 (Mon, 27 Jan 2025) EndedAt: 2025-01-27 17:45:01 -0500 (Mon, 27 Jan 2025) EllapsedTime: 29.0 seconds RetCode: 0 Status: OK